BEGIN:VCALENDAR
VERSION:2.0
PRODID:-//CirculNews//Valli di Lanzo//IT
CALSCALE:GREGORIAN
METHOD:PUBLISH
X-WR-CALNAME:Sagra Valli di Lanzo
X-WR-CALDESC:Eventi delle Valli di Lanzo aggiornati in automatico da CirculNews
X-WR-TIMEZONE:Europe/Rome
REFRESH-INTERVAL;VALUE=DURATION:PT12H
X-PUBLISHED-TTL:PT12H
BEGIN:VEVENT
UID:event-46@news.lcircul.it
DTSTAMP:20260424T164750Z
DTSTART;VALUE=DATE:20260425
DTEND;VALUE=DATE:20260426
SUMMARY:MERCATO HOBBISTI a Front
DESCRIPTION:Manifestazione di mercato hobbisti. — https://news.lcircul.it/eventi/46/mercato-hobbisti
LOCATION:Front
CATEGORIES:sagra
URL:https://news.lcircul.it/eventi/46/mercato-hobbisti
END:VEVENT
BEGIN:VEVENT
UID:event-43@news.lcircul.it
DTSTAMP:20260424T164750Z
DTSTART;VALUE=DATE:20260430
DTEND;VALUE=DATE:20260504
SUMMARY:Le Valli in Vetrina a Ceres
DESCRIPTION:Manifestazione dedicata al turismo con sapori\, tradizioni ed eventi. — https://news.lcircul.it/eventi/43/le-valli-in-vetrina
LOCATION:Ceres
CATEGORIES:sagra
URL:https://news.lcircul.it/eventi/43/le-valli-in-vetrina
END:VEVENT
BEGIN:VEVENT
UID:event-50@news.lcircul.it
DTSTAMP:20260424T164750Z
DTSTART;VALUE=DATE:20260503
DTEND;VALUE=DATE:20260504
SUMMARY:Mathi in fattoria
DESCRIPTION:Fiera denominata 'Mathi in fattoria'. — https://news.lcircul.it/eventi/50/mathi-in-fattoria
LOCATION:Mathi
CATEGORIES:sagra
URL:https://news.lcircul.it/eventi/50/mathi-in-fattoria
END:VEVENT
BEGIN:VEVENT
UID:event-51@news.lcircul.it
DTSTAMP:20260424T164750Z
DTSTART;VALUE=DATE:20260510
DTEND;VALUE=DATE:20260511
SUMMARY:Fiera di Primavera a Lanzo Torinese
DESCRIPTION:Manifestazione autorizzata dal Comune. — https://news.lcircul.it/eventi/51/fiera-di-primavera
LOCATION:Lanzo Torinese
CATEGORIES:sagra
URL:https://news.lcircul.it/eventi/51/fiera-di-primavera
END:VEVENT
BEGIN:VEVENT
UID:event-41@news.lcircul.it
DTSTAMP:20260424T164750Z
DTSTART;VALUE=DATE:20260524
DTEND;VALUE=DATE:20260525
SUMMARY:SCAMBIO VERDE EDIZIONE 2026 a Lanzo Torinese
DESCRIPTION:Manifestazione di libero scambio e donazione di semi\, piante e talee radicate. — https://news.lcircul.it/eventi/41/scambio-verde-edizione-2026
LOCATION:ALA MERCATALE DI PIAZZA ALLISIO\, Lanzo Torinese
CATEGORIES:sagra
URL:https://news.lcircul.it/eventi/41/scambio-verde-edizione-2026
END:VEVENT
BEGIN:VEVENT
UID:event-49@news.lcircul.it
DTSTAMP:20260424T164750Z
DTSTART;VALUE=DATE:20260607
DTEND;VALUE=DATE:20260608
SUMMARY:Sagra dell'Öfela a Nole
DESCRIPTION:Manifestazione. — https://news.lcircul.it/eventi/49/sagra-dellofela
LOCATION:Nole
CATEGORIES:sagra
URL:https://news.lcircul.it/eventi/49/sagra-dellofela
END:VEVENT
END:VCALENDAR