BEGIN:VCALENDAR
VERSION:2.0
PRODID:-//CirculNews//Valli di Lanzo//IT
CALSCALE:GREGORIAN
METHOD:PUBLISH
X-WR-CALNAME:Eventi a Ciriè
X-WR-CALDESC:Eventi delle Valli di Lanzo aggiornati in automatico da CirculNews
X-WR-TIMEZONE:Europe/Rome
REFRESH-INTERVAL;VALUE=DURATION:PT12H
X-PUBLISHED-TTL:PT12H
BEGIN:VEVENT
UID:event-40@news.lcircul.it
DTSTAMP:20260424T151653Z
DTSTART;VALUE=DATE:20260426
DTEND;VALUE=DATE:20260427
SUMMARY:Hope Color – Camminata Clown a Ciriè
DESCRIPTION:Camminata non competitiva di 5 km tra musica\, nasi rossi e solidarietà. — https://news.lcircul.it/eventi/40/hope-color-camminata-clown
LOCATION:Ciriè
CATEGORIES:sport
URL:https://news.lcircul.it/eventi/40/hope-color-camminata-clown
END:VEVENT
BEGIN:VEVENT
UID:event-47@news.lcircul.it
DTSTAMP:20260424T151653Z
DTSTART;VALUE=DATE:20260528
DTEND;VALUE=DATE:20260529
SUMMARY:Presentazione del libro di Maria Rita Prette a Ciriè
DESCRIPTION:Incontro pubblico per riflessioni sulla Palestina e presentazione del libro di Maria Rita Prette. — https://news.lcircul.it/eventi/47/presentazione-del-libro-di-maria-rita-prette
LOCATION:Ciriè\, Ciriè
CATEGORIES:cultura
URL:https://news.lcircul.it/eventi/47/presentazione-del-libro-di-maria-rita-prette
END:VEVENT
END:VCALENDAR