BEGIN:VCALENDAR
VERSION:2.0
PRODID:-//CirculNews//Valli di Lanzo//IT
CALSCALE:GREGORIAN
METHOD:PUBLISH
X-WR-CALNAME:Eventi a Lemie
X-WR-CALDESC:Eventi delle Valli di Lanzo aggiornati in automatico da CirculNews
X-WR-TIMEZONE:Europe/Rome
REFRESH-INTERVAL;VALUE=DURATION:PT12H
X-PUBLISHED-TTL:PT12H
BEGIN:VEVENT
UID:event-42@news.lcircul.it
DTSTAMP:20260424T151231Z
DTSTART:20260425T094500
DTEND:20260425T114500
SUMMARY:Celebrazioni Festa della Liberazione a Lemie
DESCRIPTION:Celebrazione della ricorrenza. — https://news.lcircul.it/eventi/42/celebrazioni-festa-della-liberazione
LOCATION:Piazza Don Girardi\, Lemie
CATEGORIES:civica
URL:https://news.lcircul.it/eventi/42/celebrazioni-festa-della-liberazione
END:VEVENT
END:VCALENDAR