BEGIN:VCALENDAR
VERSION:2.0
PRODID:-//CirculNews//Valli di Lanzo//IT
CALSCALE:GREGORIAN
METHOD:PUBLISH
X-WR-CALNAME:Eventi a Robassomero
X-WR-CALDESC:Eventi delle Valli di Lanzo aggiornati in automatico da CirculNews
X-WR-TIMEZONE:Europe/Rome
REFRESH-INTERVAL;VALUE=DURATION:PT12H
X-PUBLISHED-TTL:PT12H
BEGIN:VEVENT
UID:event-48@news.lcircul.it
DTSTAMP:20260424T164658Z
DTSTART;VALUE=DATE:20260515
DTEND;VALUE=DATE:20260516
SUMMARY:SPETTACOLO TEATRALE "VILLA FELICITA???" a Robassomero
DESCRIPTION:Spettacolo teatrale della compagnia Teatriamo Insieme. — https://news.lcircul.it/eventi/48/spettacolo-teatrale-villa-felicita
LOCATION:Robassomero
CATEGORIES:cultura
URL:https://news.lcircul.it/eventi/48/spettacolo-teatrale-villa-felicita
END:VEVENT
END:VCALENDAR